Workbook
Name echantillon: 'Liste élèves'!$C$9:$D$18
Name Liste: 'Liste élèves'!$C$9:$D$18

Sheet Liste élèves
B2: Liste des élèves
B4: Ecole ou établissement:
C8: NOM ET PRENOM
B9: 1 | C9: Elève1
B10: 2 | C10: Elève2
B11: 3 | C11: Elève3
B12: 4 | C12: Elève4
B13: 5 | C13: Elève5
B14: 6 | C14: Elève6
B15: 7 | C15: Elève7
B16: 8 | C16: Elève8
B17: 9 | C17: Elève9
B18: 10 | C18: Elève10

Sheet Saisie résultats
A2: Saisie des codes | D2: Code 1 : Réponse(s) attendue(s) | Y2: Français
D3: Code 9 : Autre(s) réponse(s)
D4: Code 0 : Absence de réponse | Y4: Mathématiques
EQ6: SR Fr | ER6: SR Math
D7: Numéro de l'item
C8: Nom et prénom | D8: 1 | E8: 2 | F8: 3 | G8: 4 | H8: 5 | I8: 6 | J8: 7 | K8: 8 | L8: 9 | M8: 10 | N8: 11 | O8: 12 | P8: 13 | Q8: 14 | R8: 15 | S8: 16 | T8: 17 | U8: 18 | V8: 19 | W8: 20 | X8: 21 | Y8: 22 | Z8: 23 | AA8: 24 | AB8: 25 | AC8: 26 | AD8: 27 | AE8: 28 | AF8: 29 | AG8: 30 | AH8: 31 | AI8: 32 | AJ8: 33 | AK8: 34 | AL8: 35 | AM8: 36 | AN8: 37 | AO8: 38 | AP8: 39 | AQ8: 40 | AR8: 41 | AS8: 42 | AT8: 43 | AU8: 44 | AV8: 45 | AW8: 46 | AX8: 47 | AY8: 48 | AZ8: 49 | BA8: 50 | BB8: 51 | BC8: 52 | BD8: 53 | BE8: 54 | BF8: 55 | BG8: 56 | BH8: 57 | BI8: 58 | BJ8: 59 | BK8: 60 | BL8: 61 | BM8: 62 | BN8: 63 | BO8: 64 | BP8: 65 | BQ8: 66 | BR8: 67 | BS8: 68 | BT8: 69 | BU8: 1 | BV8: 2 | BW8: 3 | BX8: 4 | BY8: 5 | BZ8: 6 | CA8: 7 | CB8: 8 | CC8: 9 | CD8: 10 | CE8: 11 | CF8: 12 | CG8: 13 | CH8: 14 | CI8: 15 | CJ8: 16 | CK8: 17 | CL8: 18 | CM8: 19 | CN8: 20 | CO8: 21 | CP8: 22 | CQ8: 23 | CR8: 24 | CS8: 25 | CT8: 26 | CU8: 27 | CV8: 28 | CW8: 29 | CX8: 30 | CY8: 31 | CZ8: 32 | DA8: 33 | DB8: 34 | DC8: 35 | DD8: 36 | DE8: 37 | DF8: 38 | DG8: 39 | DH8: 40 | DI8: 41 | DJ8: 42 | DK8: 43 | DL8: 44 | DM8: 45 | DN8: 46 | DO8: 47 | DP8: 48 | DQ8: 49 | DR8: 50 | DS8: 51 | DT8: 52 | DU8: 53 | DV8: 54 | DW8: 55 | DX8: 56 | DY8: 57 | DZ8: 58 | EA8: 59 | EB8: 60 | EC8: 61 | ED8: 62 | EE8: 63 | EF8: 64 | EG8: 65 | EH8: 66 | EI8: 67 | EJ8: 68 | EK8: 69 | EL8: 70 | EM8: 71 | EN8: 72 | EO8: 73
B9: 1 | C9: ='Liste élèves'!C9 -> Elève1 | EQ9: =COUNTIF(D9:BT9,1)/COUNTIF(D9:BT9,"<10") -> #DIV/0! | ER9: =COUNTIF(BU9:EO9,1)/COUNTIF(BU9:EO9,"<10") -> #DIV/0!
B10: 2 | C10: ='Liste élèves'!C10 -> Elève2 | EQ10: =COUNTIF(D10:BT10,1)/COUNTIF(D10:BT10,"<10") -> #DIV/0! | ER10: =COUNTIF(BU10:EO10,1)/COUNTIF(BU10:EO10,"<10") -> #DIV/0!
B11: 3 | C11: ='Liste élèves'!C11 -> Elève3 | EQ11: =COUNTIF(D11:BT11,1)/COUNTIF(D11:BT11,"<10") -> #DIV/0! | ER11: =COUNTIF(BU11:EO11,1)/COUNTIF(BU11:EO11,"<10") -> #DIV/0!
B12: 4 | C12: ='Liste élèves'!C12 -> Elève4 | EQ12: =COUNTIF(D12:BT12,1)/COUNTIF(D12:BT12,"<10") -> #DIV/0! | ER12: =COUNTIF(BU12:EO12,1)/COUNTIF(BU12:EO12,"<10") -> #DIV/0!
B13: 5 | C13: ='Liste élèves'!C13 -> Elève5 | EQ13: =COUNTIF(D13:BT13,1)/COUNTIF(D13:BT13,"<10") -> #DIV/0! | ER13: =COUNTIF(BU13:EO13,1)/COUNTIF(BU13:EO13,"<10") -> #DIV/0!
B14: 6 | C14: ='Liste élèves'!C14 -> Elève6 | EQ14: =COUNTIF(D14:BT14,1)/COUNTIF(D14:BT14,"<10") -> #DIV/0! | ER14: =COUNTIF(BU14:EO14,1)/COUNTIF(BU14:EO14,"<10") -> #DIV/0!
B15: 7 | C15: ='Liste élèves'!C15 -> Elève7 | EQ15: =COUNTIF(D15:BT15,1)/COUNTIF(D15:BT15,"<10") -> #DIV/0! | ER15: =COUNTIF(BU15:EO15,1)/COUNTIF(BU15:EO15,"<10") -> #DIV/0!
B16: 8 | C16: ='Liste élèves'!C16 -> Elève8 | EQ16: =COUNTIF(D16:BT16,1)/COUNTIF(D16:BT16,"<10") -> #DIV/0! | ER16: =COUNTIF(BU16:EO16,1)/COUNTIF(BU16:EO16,"<10") -> #DIV/0!
B17: 9 | C17: ='Liste élèves'!C17 -> Elève9 | EQ17: =COUNTIF(D17:BT17,1)/COUNTIF(D17:BT17,"<10") -> #DIV/0! | ER17: =COUNTIF(BU17:EO17,1)/COUNTIF(BU17:EO17,"<10") -> #DIV/0!
B18: 10 | C18: ='Liste élèves'!C18 -> Elève10 | EQ18: =COUNTIF(D18:BT18,1)/COUNTIF(D18:BT18,"<10") -> #DIV/0! | ER18: =COUNTIF(BU18:EO18,1)/COUNTIF(BU18:EO18,"<10") -> #DIV/0!
D19: 1 | E19: 2 | F19: 3 | G19: 4 | H19: 5 | I19: 6 | J19: 7 | K19: 8 | L19: 9 | M19: 10 | N19: 11 | O19: 12 | P19: 13 | Q19: 14 | R19: 15 | S19: 16 | T19: 17 | U19: 18 | V19: 19 | W19: 20 | X19: 21 | Y19: 22 | Z19: 23 | AA19: 24 | AB19: 25 | AC19: 26 | AD19: 27 | AE19: 28 | AF19: 29 | AG19: 30 | AH19: 31 | AI19: 32 | AJ19: 33 | AK19: 34 | AL19: 35 | AM19: 36 | AN19: 37 | AO19: 38 | AP19: 39 | AQ19: 40 | AR19: 41 | AS19: 42 | AT19: 43 | AU19: 44 | AV19: 45 | AW19: 46 | AX19: 47 | AY19: 48 | AZ19: 49 | BA19: 50 | BB19: 51 | BC19: 52 | BD19: 53 | BE19: 54 | BF19: 55 | BG19: 56 | BH19: 57 | BI19: 58 | BJ19: 59 | BK19: 60 | BL19: 61 | BM19: 62 | BN19: 63 | BO19: 64 | BP19: 65 | BQ19: 66 | BR19: 67 | BS19: 68 | BT19: 69 | BU19: 1 | BV19: 2 | BW19: 3 | BX19: 4 | BY19: 5 | BZ19: 6 | CA19: 7 | CB19: 8 | CC19: 9 | CD19: 10 | CE19: 11 | CF19: 12 | CG19: 13 | CH19: 14 | CI19: 15 | CJ19: 16 | CK19: 17 | CL19: 18 | CM19: 19 | CN19: 20 | CO19: 21 | CP19: 22 | CQ19: 23 | CR19: 24 | CS19: 25 | CT19: 26 | CU19: 27 | CV19: 28 | CW19: 29 | CX19: 30 | CY19: 31 | CZ19: 32 | DA19: 33 | DB19: 34 | DC19: 35 | DD19: 36 | DE19: 37 | DF19: 38 | DG19: 39 | DH19: 40 | DI19: 41 | DJ19: 42 | DK19: 43 | DL19: 44 | DM19: 45 | DN19: 46 | DO19: 47 | DP19: 48 | DQ19: 49 | DR19: 50 | DS19: 51 | DT19: 52 | DU19: 53 | DV19: 54 | DW19: 55 | DX19: 56 | DY19: 57 | DZ19: 58 | EA19: 59 | EB19: 60 | EC19: 61 | ED19: 62 | EE19: 63 | EF19: 64 | EG19: 65 | EH19: 66 | EI19: 67 | EJ19: 68 | EK19: 69 | EL19: 70 | EM19: 71 | EN19: 72 | EO19: 73
C20: TOTAL REUSSITE (1) | D20: =COUNTIF(D9:D18,1) -> 0 | E20: =COUNTIF(E9:E18,1) -> 0 | F20: =COUNTIF(F9:F18,1) -> 0 | G20: =COUNTIF(G9:G18,1) -> 0 | H20: =COUNTIF(H9:H18,1) -> 0 | I20: =COUNTIF(I9:I18,1) -> 0 | J20: =COUNTIF(J9:J18,1) -> 0 | K20: =COUNTIF(K9:K18,1) -> 0 | ... EO20: =COUNTIF(EO9:EO18,1) -> 0
C21: TOTAL AUTRE(S) REPONSE(S) (9) | D21: =COUNTIF(D9:D18,9) -> 0 | E21: =COUNTIF(E9:E18,9) -> 0 | F21: =COUNTIF(F9:F18,9) -> 0 | G21: =COUNTIF(G9:G18,9) -> 0 | H21: =COUNTIF(H9:H18,9) -> 0 | I21: =COUNTIF(I9:I18,9) -> 0 | J21: =COUNTIF(J9:J18,9) -> 0 | K21: =COUNTIF(K9:K18,9) -> 0 | ... EO21: =COUNTIF(EO9:EO18,9) -> 0
C22: TOTAL ABSENCE DE REPONSE (0) | D22: =COUNTIF(D9:D18,0) -> 0 | E22: =COUNTIF(E9:E18,0) -> 0 | F22: =COUNTIF(F9:F18,0) -> 0 | G22: =COUNTIF(G9:G18,0) -> 0 | H22: =COUNTIF(H9:H18,0) -> 0 | I22: =COUNTIF(I9:I18,0) -> 0 | J22: =COUNTIF(J9:J18,0) -> 0 | K22: =COUNTIF(K9:K18,0) -> 0 | ... EO22: =COUNTIF(EO9:EO18,0) -> 0
C23: NOMBRE DE REPONSES (1, 9, 0) | D23: =COUNTIF(D9:D18,1)+COUNTIF(D9:D18,9)+COUNTIF(D9:D18,0) -> 0 | E23: =COUNTIF(E9:E18,1)+COUNTIF(E9:E18,9)+COUNTIF(E9:E18,0) -> 0 | F23: =COUNTIF(F9:F18,1)+COUNTIF(F9:F18,9)+COUNTIF(F9:F18,0) -> 0 | G23: =COUNTIF(G9:G18,1)+COUNTIF(G9:G18,9)+COUNTIF(G9:G18,0) -> 0 | H23: =COUNTIF(H9:H18,1)+COUNTIF(H9:H18,9)+COUNTIF(H9:H18,0) -> 0 | I23: =COUNTIF(I9:I18,1)+COUNTIF(I9:I18,9)+COUNTIF(I9:I18,0) -> 0 | J23: =COUNTIF(J9:J18,1)+COUNTIF(J9:J18,9)+COUNTIF(J9:J18,0) -> 0 | K23: =COUNTIF(K9:K18,1)+COUNTIF(K9:K18,9)+COUNTIF(K9:K18,0) -> 0 | ... EO23: =COUNTIF(EO9:EO18,1)+COUNTIF(EO9:EO18,9)+COUNTIF(EO9:EO18,0) -> 0
C25: SCORE DE REUSSITE : SR | D25: =D20/D23 -> #DIV/0! | E25: =E20/E23 -> #DIV/0! | F25: =F20/F23 -> #DIV/0! | G25: =G20/G23 -> #DIV/0! | H25: =H20/H23 -> #DIV/0! | I25: =I20/I23 -> #DIV/0! | J25: =J20/J23 -> #DIV/0! | K25: =K20/K23 -> #DIV/0! | ... EO25: =EO20/EO23 -> #DIV/0!
D26: 1 | E26: 2 | F26: 3 | G26: 4 | H26: 5 | I26: 6 | J26: 7 | K26: 8 | L26: 9 | M26: 10 | N26: 11 | O26: 12 | P26: 13 | Q26: 14 | R26: 15 | S26: 16 | T26: 17 | U26: 18 | V26: 19 | W26: 20 | X26: 21 | Y26: 22 | Z26: 23 | AA26: 24 | AB26: 25 | AC26: 26 | AD26: 27 | AE26: 28 | AF26: 29 | AG26: 30 | AH26: 31 | AI26: 32 | AJ26: 33 | AK26: 34 | AL26: 35 | AM26: 36 | AN26: 37 | AO26: 38 | AP26: 39 | AQ26: 40 | AR26: 41 | AS26: 42 | AT26: 43 | AU26: 44 | AV26: 45 | AW26: 46 | AX26: 47 | AY26: 48 | AZ26: 49 | BA26: 50 | BB26: 51 | BC26: 52 | BD26: 53 | BE26: 54 | BF26: 55 | BG26: 56 | BH26: 57 | BI26: 58 | BJ26: 59 | BK26: 60 | BL26: 61 | BM26: 62 | BN26: 63 | BO26: 64 | BP26: 65 | BQ26: 66 | BR26: 67 | BS26: 68 | BT26: 69 | BU26: 1 | BV26: 2 | BW26: 3 | BX26: 4 | BY26: 5 | BZ26: 6 | CA26: 7 | CB26: 8 | CC26: 9 | CD26: 10 | CE26: 11 | CF26: 12 | CG26: 13 | CH26: 14 | CI26: 15 | CJ26: 16 | CK26: 17 | CL26: 18 | CM26: 19 | CN26: 20 | CO26: 21 | CP26: 22 | CQ26: 23 | CR26: 24 | CS26: 25 | CT26: 26 | CU26: 27 | CV26: 28 | CW26: 29 | CX26: 30 | CY26: 31 | CZ26: 32 | DA26: 33 | DB26: 34 | DC26: 35 | DD26: 36 | DE26: 37 | DF26: 38 | DG26: 39 | DH26: 40 | DI26: 41 | DJ26: 42 | DK26: 43 | DL26: 44 | DM26: 45 | DN26: 46 | DO26: 47 | DP26: 48 | DQ26: 49 | DR26: 50 | DS26: 51 | DT26: 52 | DU26: 53 | DV26: 54 | DW26: 55 | DX26: 56 | DY26: 57 | DZ26: 58 | EA26: 59 | EB26: 60 | EC26: 61 | ED26: 62 | EE26: 63 | EF26: 64 | EG26: 65 | EH26: 66 | EI26: 67 | EJ26: 68 | EK26: 69 | EL26: 70 | EM26: 71 | EN26: 72 | EO26: 73
D27: Numéro de l'item

Sheet FRA Synthèse élève
I1: Sélectionnez le nom de l'élève dans la liste ci-dessous.
C2: Evaluation dossier CDO - Français | D2: N°Item | E2: Résultat élève sur l'item | F2: SR | G2: SR | I2: Elève1
C3: ='FRA Synthèse élève'!I2 -> Elève1 | I3: ='Liste élèves'!C9 -> Elève1
C4: Lecture et compréhension de l'écrit 31 items | D4: 1 | E4: =VLOOKUP($I$2,'Saisie résultats'!$C$9:$BT$18,2,0) -> 0 | F4: =COUNTIF(E4:E34,1)/COUNTIF(E4:E34,"<10") -> 0 | G4: =COUNTIF(E4:E72,1)/COUNTIF(E4:E72,"<10") -> 0 | I4: ='Liste élèves'!C10 -> Elève2 | K4: Lecture et compréhension de l'écrit | L4: Ecriture | M4: Etude de la langue | N4: Langage oral
D5: 2 | E5: =VLOOKUP($I$2,'Saisie résultats'!$C$9:$BT$18,3,0) -> 0 | I5: ='Liste élèves'!C11 -> Elève3 | K5: =COUNTIF(E4:E34,1)/COUNTIF(E4:E34,"<10") -> 0 | L5: =COUNTIF(E35:E50,1)/COUNTIF(E35:E50,"<10") -> 0 | M5: =COUNTIF(E51:E62,1)/COUNTIF(E51:E62,"<10") -> 0 | N5: =COUNTIF(E63:E72,1)/COUNTIF(E63:E72,"<10") -> 0
D6: 3 | E6: =VLOOKUP($I$2,'Saisie résultats'!$C$9:$BT$18,4,0) -> 0 | I6: ='Liste élèves'!C12 -> Elève4
D7: 4 | E7: =VLOOKUP($I$2,'Saisie résultats'!$C$9:$BT$18,5,0) -> 0 | I7: ='Liste élèves'!C13 -> Elève5
D8: 5 | E8: =VLOOKUP($I$2,'Saisie résultats'!$C$9:$BT$18,6,0) -> 0 | I8: ='Liste élèves'!C14 -> Elève6
D9: 6 | E9: =VLOOKUP($I$2,'Saisie résultats'!$C$9:$BT$18,7,0) -> 0 | I9: ='Liste élèves'!C15 -> Elève7
D10: 7 | E10: =VLOOKUP($I$2,'Saisie résultats'!$C$9:$BT$18,8,0) -> 0 | I10: ='Liste élèves'!C16 -> Elève8
D11: 8 | E11: =VLOOKUP($I$2,'Saisie résultats'!$C$9:$BT$18,9,0) -> 0 | I11: ='Liste élèves'!C17 -> Elève9
D12: 9 | E12: =VLOOKUP($I$2,'Saisie résultats'!$C$9:$BT$18,10,0) -> 0 | I12: ='Liste élèves'!C18 -> Elève10
D13: 10 | E13: =VLOOKUP($I$2,'Saisie résultats'!$C$9:$BT$18,11,0) -> 0
D14: 11 | E14: =VLOOKUP($I$2,'Saisie résultats'!$C$9:$BT$18,12,0) -> 0
D15: 12 | E15: =VLOOKUP($I$2,'Saisie résultats'!$C$9:$BT$18,13,0) -> 0
D16: 13 | E16: =VLOOKUP($I$2,'Saisie résultats'!$C$9:$BT$18,14,0) -> 0
D17: 30 | E17: =VLOOKUP($I$2,'Saisie résultats'!$C$9:$BT$18,31,0) -> 0
D18: 31 | E18: =VLOOKUP($I$2,'Saisie résultats'!$C$9:$BT$18,32,0) -> 0
D19: 32 | E19: =VLOOKUP($I$2,'Saisie résultats'!$C$9:$BT$18,33,0) -> 0
D20: 33 | E20: =VLOOKUP($I$2,'Saisie résultats'!$C$9:$BT$18,34,0) -> 0
D21: 34 | E21: =VLOOKUP($I$2,'Saisie résultats'!$C$9:$BT$18,35,0) -> 0
D22: 35 | E22: =VLOOKUP($I$2,'Saisie résultats'!$C$9:$BT$18,36,0) -> 0
D23: 36 | E23: =VLOOKUP($I$2,'Saisie résultats'!$C$9:$BT$18,37,0) -> 0
D24: 37 | E24: =VLOOKUP($I$2,'Saisie résultats'!$C$9:$BT$18,38,0) -> 0
D25: 38 | E25: =VLOOKUP($I$2,'Saisie résultats'!$C$9:$BT$18,39,0) -> 0
D26: 61 | E26: =VLOOKUP($I$2,'Saisie résultats'!$C$9:$BT$18,62,0) -> 0
D27: 62 | E27: =VLOOKUP($I$2,'Saisie résultats'!$C$9:$BT$18,63,0) -> 0
D28: 63 | E28: =VLOOKUP($I$2,'Saisie résultats'!$C$9:$BT$18,64,0) -> 0
D29: 64 | E29: =VLOOKUP($I$2,'Saisie résultats'!$C$9:$BT$18,65,0) -> 0
D30: 65 | E30: =VLOOKUP($I$2,'Saisie résultats'!$C$9:$BT$18,66,0) -> 0
D31: 66 | E31: =VLOOKUP($I$2,'Saisie résultats'!$C$9:$BT$18,67,0) -> 0
D32: 67 | E32: =VLOOKUP($I$2,'Saisie résultats'!$C$9:$BT$18,68,0) -> 0
D33: 68 | E33: =VLOOKUP($I$2,'Saisie résultats'!$C$9:$BT$18,69,0) -> 0
D34: 69 | E34: =VLOOKUP($I$2,'Saisie résultats'!$C$9:$BT$18,70,0) -> 0
C35: Écriture 16 items | D35: 14 | E35: =VLOOKUP($I$2,'Saisie résultats'!$C$9:$BT$18,15,0) -> 0 | F35: =COUNTIF(E35:E50,1)/COUNTIF(E35:E50,"<10") -> 0
D36: 15 | E36: =VLOOKUP($I$2,'Saisie résultats'!$C$9:$BT$18,16,0) -> 0
D37: 16 | E37: =VLOOKUP($I$2,'Saisie résultats'!$C$9:$BT$18,17,0) -> 0
D38: 17 | E38: =VLOOKUP($I$2,'Saisie résultats'!$C$9:$BT$18,18,0) -> 0
D39: 18 | E39: =VLOOKUP($I$2,'Saisie résultats'!$C$9:$BT$18,19,0) -> 0
D40: 19 | E40: =VLOOKUP($I$2,'Saisie résultats'!$C$9:$BT$18,20,0) -> 0
D41: 20 | E41: =VLOOKUP($I$2,'Saisie résultats'!$C$9:$BT$18,21,0) -> 0
D42: 21 | E42: =VLOOKUP($I$2,'Saisie résultats'!$C$9:$BT$18,22,0) -> 0
D43: 22 | E43: =VLOOKUP($I$2,'Saisie résultats'!$C$9:$BT$18,23,0) -> 0
D44: 23 | E44: =VLOOKUP($I$2,'Saisie résultats'!$C$9:$BT$18,24,0) -> 0
D45: 24 | E45: =VLOOKUP($I$2,'Saisie résultats'!$C$9:$BT$18,25,0) -> 0
D46: 25 | E46: =VLOOKUP($I$2,'Saisie résultats'!$C$9:$BT$18,26,0) -> 0
D47: 26 | E47: =VLOOKUP($I$2,'Saisie résultats'!$C$9:$BT$18,27,0) -> 0
D48: 27 | E48: =VLOOKUP($I$2,'Saisie résultats'!$C$9:$BT$18,28,0) -> 0
D49: 28 | E49: =VLOOKUP($I$2,'Saisie résultats'!$C$9:$BT$18,29,0) -> 0
D50: 29 | E50: =VLOOKUP($I$2,'Saisie résultats'!$C$9:$BT$18,30,0) -> 0
C51: Etude de la langue 12 items | D51: 39 | E51: =VLOOKUP($I$2,'Saisie résultats'!$C$9:$BT$18,40,0) -> 0 | F51: =COUNTIF(E51:E62,1)/COUNTIF(E51:E62,"<10") -> 0
D52: 40 | E52: =VLOOKUP($I$2,'Saisie résultats'!$C$9:$BT$18,41,0) -> 0
D53: 41 | E53: =VLOOKUP($I$2,'Saisie résultats'!$C$9:$BT$18,42,0) -> 0
D54: 42 | E54: =VLOOKUP($I$2,'Saisie résultats'!$C$9:$BT$18,43,0) -> 0
D55: 43 | E55: =VLOOKUP($I$2,'Saisie résultats'!$C$9:$BT$18,44,0) -> 0
D56: 44 | E56: =VLOOKUP($I$2,'Saisie résultats'!$C$9:$BT$18,45,0) -> 0
D57: 45 | E57: =VLOOKUP($I$2,'Saisie résultats'!$C$9:$BT$18,46,0) -> 0
D58: 46 | E58: =VLOOKUP($I$2,'Saisie résultats'!$C$9:$BT$18,47,0) -> 0
D59: 47 | E59: =VLOOKUP($I$2,'Saisie résultats'!$C$9:$BT$18,48,0) -> 0
D60: 48 | E60: =VLOOKUP($I$2,'Saisie résultats'!$C$9:$BT$18,49,0) -> 0
D61: 49 | E61: =VLOOKUP($I$2,'Saisie résultats'!$C$9:$BT$18,50,0) -> 0
D62: 50 | E62: =VLOOKUP($I$2,'Saisie résultats'!$C$9:$BT$18,51,0) -> 0
C63: Langage oral 10 items | D63: 51 | E63: =VLOOKUP($I$2,'Saisie résultats'!$C$9:$BT$18,52,0) -> 0 | F63: =COUNTIF(E63:E72,1)/COUNTIF(E63:E72,"<10") -> 0
D64: 52 | E64: =VLOOKUP($I$2,'Saisie résultats'!$C$9:$BT$18,53,0) -> 0
D65: 53 | E65: =VLOOKUP($I$2,'Saisie résultats'!$C$9:$BT$18,54,0) -> 0
D66: 54 | E66: =VLOOKUP($I$2,'Saisie résultats'!$C$9:$BT$18,55,0) -> 0
D67: 55 | E67: =VLOOKUP($I$2,'Saisie résultats'!$C$9:$BT$18,56,0) -> 0
D68: 56 | E68: =VLOOKUP($I$2,'Saisie résultats'!$C$9:$BT$18,57,0) -> 0
D69: 57 | E69: =VLOOKUP($I$2,'Saisie résultats'!$C$9:$BT$18,58,0) -> 0
D70: 58 | E70: =VLOOKUP($I$2,'Saisie résultats'!$C$9:$BT$18,59,0) -> 0
D71: 59 | E71: =VLOOKUP($I$2,'Saisie résultats'!$C$9:$BT$18,60,0) -> 0
D72: 60 | E72: =VLOOKUP($I$2,'Saisie résultats'!$C$9:$BT$18,61,0) -> 0

Sheet MATH Synthèse élève
I1: Sélectionnez le nom de l'élève dans la liste ci-dessous.
C2: Evaluation dossier CDO - Mathématiques | D2: N°Item | E2: Résultat élève sur l'item | F2: SR | G2: SR | I2: Elève1
C3: ='MATH Synthèse élève'!I2 -> Elève1 | I3: ='Liste élèves'!C9 -> Elève1
C4: Nombres et calcul 44 items | D4: 1 | E4: =VLOOKUP($I$2,'Saisie résultats'!$C$9:$EO$18,71,0) -> 0 | F4: =COUNTIF(E4:E47,1)/COUNTIF(E4:E47,"<10") -> 0 | G4: =COUNTIF(E4:E76,1)/COUNTIF(E4:E76,"<10") -> 0 | I4: ='Liste élèves'!C10 -> Elève2 | K4: Nombres et calcul | L4: Grandeurs et mesures | M4: Espace et géométrie
D5: 2 | E5: =VLOOKUP($I$2,'Saisie résultats'!$C$9:$EO$18,72,0) -> 0 | I5: ='Liste élèves'!C11 -> Elève3 | K5: =COUNTIF(E4:E47,1)/COUNTIF(E4:E47,"<10") -> 0 | L5: =COUNTIF(E48:E64,1)/COUNTIF(E48:E64,"<10") -> 0 | M5: =COUNTIF(E65:E76,1)/COUNTIF(E65:E76,"<10") -> 0
D6: 3 | E6: =VLOOKUP($I$2,'Saisie résultats'!$C$9:$EO$18,73,0) -> 0 | I6: ='Liste élèves'!C12 -> Elève4
D7: 4 | E7: =VLOOKUP($I$2,'Saisie résultats'!$C$9:$EO$18,74,0) -> 0 | I7: ='Liste élèves'!C13 -> Elève5
D8: 5 | E8: =VLOOKUP($I$2,'Saisie résultats'!$C$9:$EO$18,75,0) -> 0 | I8: ='Liste élèves'!C14 -> Elève6
D9: 6 | E9: =VLOOKUP($I$2,'Saisie résultats'!$C$9:$EO$18,76,0) -> 0 | I9: ='Liste élèves'!C15 -> Elève7
D10: 7 | E10: =VLOOKUP($I$2,'Saisie résultats'!$C$9:$EO$18,77,0) -> 0 | I10: ='Liste élèves'!C16 -> Elève8
D11: 8 | E11: =VLOOKUP($I$2,'Saisie résultats'!$C$9:$EO$18,78,0) -> 0 | I11: ='Liste élèves'!C17 -> Elève9
D12: 9 | E12: =VLOOKUP($I$2,'Saisie résultats'!$C$9:$EO$18,79,0) -> 0 | I12: ='Liste élèves'!C18 -> Elève10
D13: 10 | E13: =VLOOKUP($I$2,'Saisie résultats'!$C$9:$EO$18,80,0) -> 0
D14: 11 | E14: =VLOOKUP($I$2,'Saisie résultats'!$C$9:$EO$18,81,0) -> 0
D15: 12 | E15: =VLOOKUP($I$2,'Saisie résultats'!$C$9:$EO$18,82,0) -> 0
D16: 13 | E16: =VLOOKUP($I$2,'Saisie résultats'!$C$9:$EO$18,83,0) -> 0
D17: 14 | E17: =VLOOKUP($I$2,'Saisie résultats'!$C$9:$EO$18,84,0) -> 0
D18: 15 | E18: =VLOOKUP($I$2,'Saisie résultats'!$C$9:$EO$18,85,0) -> 0
D19: 16 | E19: =VLOOKUP($I$2,'Saisie résultats'!$C$9:$EO$18,86,0) -> 0
D20: 17 | E20: =VLOOKUP($I$2,'Saisie résultats'!$C$9:$EO$18,87,0) -> 0
D21: 18 | E21: =VLOOKUP($I$2,'Saisie résultats'!$C$9:$EO$18,88,0) -> 0
D22: 19 | E22: =VLOOKUP($I$2,'Saisie résultats'!$C$9:$EO$18,89,0) -> 0
D23: 20 | E23: =VLOOKUP($I$2,'Saisie résultats'!$C$9:$EO$18,90,0) -> 0
D24: 21 | E24: =VLOOKUP($I$2,'Saisie résultats'!$C$9:$EO$18,91,0) -> 0
D25: 22 | E25: =VLOOKUP($I$2,'Saisie résultats'!$C$9:$EO$18,92,0) -> 0
D26: 23 | E26: =VLOOKUP($I$2,'Saisie résultats'!$C$9:$EO$18,93,0) -> 0
D27: 24 | E27: =VLOOKUP($I$2,'Saisie résultats'!$C$9:$EO$18,94,0) -> 0
D28: 32 | E28: =VLOOKUP($I$2,'Saisie résultats'!$C$9:$EO$18,102,0) -> 0
D29: 33 | E29: =VLOOKUP($I$2,'Saisie résultats'!$C$9:$EO$18,103,0) -> 0
D30: 34 | E30: =VLOOKUP($I$2,'Saisie résultats'!$C$9:$EO$18,104,0) -> 0
D31: 35 | E31: =VLOOKUP($I$2,'Saisie résultats'!$C$9:$EO$18,105,0) -> 0
D32: 36 | E32: =VLOOKUP($I$2,'Saisie résultats'!$C$9:$EO$18,106,0) -> 0
D33: 37 | E33: =VLOOKUP($I$2,'Saisie résultats'!$C$9:$EO$18,107,0) -> 0
D34: 38 | E34: =VLOOKUP($I$2,'Saisie résultats'!$C$9:$EO$18,108,0) -> 0
D35: 39 | E35: =VLOOKUP($I$2,'Saisie résultats'!$C$9:$EO$18,109,0) -> 0
D36: 40 | E36: =VLOOKUP($I$2,'Saisie résultats'!$C$9:$EO$18,110,0) -> 0
D37: 41 | E37: =VLOOKUP($I$2,'Saisie résultats'!$C$9:$EO$18,111,0) -> 0
D38: 42 | E38: =VLOOKUP($I$2,'Saisie résultats'!$C$9:$EO$18,112,0) -> 0
D39: 43 | E39: =VLOOKUP($I$2,'Saisie résultats'!$C$9:$EO$18,113,0) -> 0
D40: 50 | E40: =VLOOKUP($I$2,'Saisie résultats'!$C$9:$EO$18,120,0) -> 0
D41: 51 | E41: =VLOOKUP($I$2,'Saisie résultats'!$C$9:$EO$18,121,0) -> 0
D42: 52 | E42: =VLOOKUP($I$2,'Saisie résultats'!$C$9:$EO$18,122,0) -> 0
D43: 53 | E43: =VLOOKUP($I$2,'Saisie résultats'!$C$9:$EO$18,123,0) -> 0
D44: 54 | E44: =VLOOKUP($I$2,'Saisie résultats'!$C$9:$EO$18,124,0) -> 0
D45: 55 | E45: =VLOOKUP($I$2,'Saisie résultats'!$C$9:$EO$18,125,0) -> 0
D46: 56 | E46: =VLOOKUP($I$2,'Saisie résultats'!$C$9:$EO$18,126,0) -> 0
D47: 57 | E47: =VLOOKUP($I$2,'Saisie résultats'!$C$9:$EO$18,127,0) -> 0
C48: Grandeurs et mesures 17 items | D48: 25 | E48: =VLOOKUP($I$2,'Saisie résultats'!$C$9:$EO$18,95,0) -> 0 | F48: =COUNTIF(E48:E64,1)/COUNTIF(E48:E64,"<10") -> 0
D49: 26 | E49: =VLOOKUP($I$2,'Saisie résultats'!$C$9:$EO$18,96,0) -> 0
D50: 27 | E50: =VLOOKUP($I$2,'Saisie résultats'!$C$9:$EO$18,97,0) -> 0
D51: 28 | E51: =VLOOKUP($I$2,'Saisie résultats'!$C$9:$EO$18,98,0) -> 0
D52: 29 | E52: =VLOOKUP($I$2,'Saisie résultats'!$C$9:$EO$18,99,0) -> 0
D53: 30 | E53: =VLOOKUP($I$2,'Saisie résultats'!$C$9:$EO$18,100,0) -> 0
D54: 31 | E54: =VLOOKUP($I$2,'Saisie résultats'!$C$9:$EO$18,101,0) -> 0
D55: 64 | E55: =VLOOKUP($I$2,'Saisie résultats'!$C$9:$EO$18,134,0) -> 0
D56: 65 | E56: =VLOOKUP($I$2,'Saisie résultats'!$C$9:$EO$18,135,0) -> 0
D57: 66 | E57: =VLOOKUP($I$2,'Saisie résultats'!$C$9:$EO$18,136,0) -> 0
D58: 67 | E58: =VLOOKUP($I$2,'Saisie résultats'!$C$9:$EO$18,137,0) -> 0
D59: 68 | E59: =VLOOKUP($I$2,'Saisie résultats'!$C$9:$EO$18,138,0) -> 0
D60: 69 | E60: =VLOOKUP($I$2,'Saisie résultats'!$C$9:$EO$18,139,0) -> 0
D61: 70 | E61: =VLOOKUP($I$2,'Saisie résultats'!$C$9:$EO$18,140,0) -> 0
D62: 71 | E62: =VLOOKUP($I$2,'Saisie résultats'!$C$9:$EO$18,141,0) -> 0
D63: 72 | E63: =VLOOKUP($I$2,'Saisie résultats'!$C$9:$EO$18,142,0) -> 0
D64: 73 | E64: =VLOOKUP($I$2,'Saisie résultats'!$C$9:$EO$18,143,0) -> 0
C65: Espace et géométrie 12 items | D65: 44 | E65: =VLOOKUP($I$2,'Saisie résultats'!$C$9:$EO$18,114,0) -> 0 | F65: =COUNTIF(E65:E76,1)/COUNTIF(E65:E76,"<10") -> 0
D66: 45 | E66: =VLOOKUP($I$2,'Saisie résultats'!$C$9:$EO$18,115,0) -> 0
D67: 46 | E67: =VLOOKUP($I$2,'Saisie résultats'!$C$9:$EO$18,116,0) -> 0
D68: 47 | E68: =VLOOKUP($I$2,'Saisie résultats'!$C$9:$EO$18,117,0) -> 0
D69: 48 | E69: =VLOOKUP($I$2,'Saisie résultats'!$C$9:$EO$18,118,0) -> 0
D70: 49 | E70: =VLOOKUP($I$2,'Saisie résultats'!$C$9:$EO$18,119,0) -> 0
D71: 58 | E71: =VLOOKUP($I$2,'Saisie résultats'!$C$9:$EO$18,128,0) -> 0
D72: 59 | E72: =VLOOKUP($I$2,'Saisie résultats'!$C$9:$EO$18,129,0) -> 0
D73: 60 | E73: =VLOOKUP($I$2,'Saisie résultats'!$C$9:$EO$18,130,0) -> 0
D74: 61 | E74: =VLOOKUP($I$2,'Saisie résultats'!$C$9:$EO$18,131,0) -> 0
D75: 62 | E75: =VLOOKUP($I$2,'Saisie résultats'!$C$9:$EO$18,132,0) -> 0
D76: 63 | E76: =VLOOKUP($I$2,'Saisie résultats'!$C$9:$EO$18,133,0) -> 0
